BEGIN:VCALENDAR
VERSION:2.0
PRODID:-//Centrum­kyrkans ungdom i Farsta - ECPv6.15.20//NONSGML v1.0//EN
CALSCALE:GREGORIAN
METHOD:PUBLISH
X-WR-CALNAME:Centrum­kyrkans ungdom i Farsta
X-ORIGINAL-URL:https://cufarsta.nu
X-WR-CALDESC:Händelser för Centrum­kyrkans ungdom i Farsta
REFRESH-INTERVAL;VALUE=DURATION:PT1H
X-Robots-Tag:noindex
X-PUBLISHED-TTL:PT1H
BEGIN:VTIMEZONE
TZID:Europe/Stockholm
BEGIN:DAYLIGHT
TZOFFSETFROM:+0100
TZOFFSETTO:+0200
TZNAME:CEST
DTSTART:20230326T010000
END:DAYLIGHT
BEGIN:STANDARD
TZOFFSETFROM:+0200
TZOFFSETTO:+0100
TZNAME:CET
DTSTART:20231029T010000
END:STANDARD
BEGIN:DAYLIGHT
TZOFFSETFROM:+0100
TZOFFSETTO:+0200
TZNAME:CEST
DTSTART:20240331T010000
END:DAYLIGHT
BEGIN:STANDARD
TZOFFSETFROM:+0200
TZOFFSETTO:+0100
TZNAME:CET
DTSTART:20241027T010000
END:STANDARD
BEGIN:DAYLIGHT
TZOFFSETFROM:+0100
TZOFFSETTO:+0200
TZNAME:CEST
DTSTART:20250330T010000
END:DAYLIGHT
BEGIN:STANDARD
TZOFFSETFROM:+0200
TZOFFSETTO:+0100
TZNAME:CET
DTSTART:20251026T010000
END:STANDARD
BEGIN:DAYLIGHT
TZOFFSETFROM:+0100
TZOFFSETTO:+0200
TZNAME:CEST
DTSTART:20260329T010000
END:DAYLIGHT
BEGIN:STANDARD
TZOFFSETFROM:+0200
TZOFFSETTO:+0100
TZNAME:CET
DTSTART:20261025T010000
END:STANDARD
END:VTIMEZONE
BEGIN:VEVENT
DTSTART;VALUE=DATE:20240727
DTEND;VALUE=DATE:20240803
DTSTAMP:20260421T055857
CREATED:20231210T212104Z
LAST-MODIFIED:20240121T093204Z
UID:5734-1722038400-1722643199@cufarsta.nu
SUMMARY:Scoutlägret Större - Vägsjöfors Värmland
DESCRIPTION:Equmenias riksscoutläger \nMer information kommer. \n  \n 
URL:https://cufarsta.nu/evenemang/scoutlagret-storre-vagsjofors-varmlsnd/
END:VEVENT
BEGIN:VEVENT
DTSTART;TZID=Europe/Stockholm:20240829T180000
DTEND;TZID=Europe/Stockholm:20240829T193000
DTSTAMP:20260421T055857
CREATED:20240609T121435Z
LAST-MODIFIED:20240609T121435Z
UID:6025-1724954400-1724959800@cufarsta.nu
SUMMARY:Scoutstart
DESCRIPTION:Terminsstart för scoutgrupperna.
URL:https://cufarsta.nu/evenemang/scoutstart-12/
LOCATION:Centrumkyrkan\, Farstaplan 15\, Farsta\, 123 47
END:VEVENT
BEGIN:VEVENT
DTSTART;TZID=Europe/Stockholm:20240831T100000
DTEND;TZID=Europe/Stockholm:20240831T170000
DTSTAMP:20260421T055857
CREATED:20240609T122320Z
LAST-MODIFIED:20240609T122320Z
UID:6027-1725098400-1725123600@cufarsta.nu
SUMMARY:Ledardag
DESCRIPTION:Kajakpaddling och planeringsdag för alla ledare.
URL:https://cufarsta.nu/evenemang/ledardag/
LOCATION:Ingarö
END:VEVENT
BEGIN:VEVENT
DTSTART;TZID=Europe/Stockholm:20241012T080000
DTEND;TZID=Europe/Stockholm:20241012T170000
DTSTAMP:20260421T055857
CREATED:20240825T182238Z
LAST-MODIFIED:20240825T182247Z
UID:6106-1728720000-1728752400@cufarsta.nu
SUMMARY:Kämpaleken
DESCRIPTION:Plats: Paradiset \nTema: Målspår. \nMer info: Se Kämpalek Stockholm 2024 – Equmenia
URL:https://cufarsta.nu/evenemang/kampaleken-10/
END:VEVENT
BEGIN:VEVENT
DTSTART;TZID=Europe/Stockholm:20241020T100000
DTEND;TZID=Europe/Stockholm:20241020T120000
DTSTAMP:20260421T055857
CREATED:20240927T144601Z
LAST-MODIFIED:20240927T144821Z
UID:6176-1729418400-1729425600@cufarsta.nu
SUMMARY:Scoutgudstjänst med invigning
DESCRIPTION:Föräldrar\, annhöriga och vänner är ocksa varmt välkomna. \nOBS: Saming för alla scouter i kyrkan klockan 09:45. \nVarmt välkomna
URL:https://cufarsta.nu/evenemang/scoutgudstjanst-med-invigning-2/
LOCATION:Centrumkyrkan\, Farstaplan 15\, Farsta\, 123 47
END:VEVENT
BEGIN:VEVENT
DTSTART;TZID=Europe/Stockholm:20241031T180000
DTEND;TZID=Europe/Stockholm:20241031T200000
DTSTAMP:20260421T055857
CREATED:20240927T145136Z
LAST-MODIFIED:20240927T145136Z
UID:6181-1730397600-1730404800@cufarsta.nu
SUMMARY:Höstlov - inga scouter
DESCRIPTION:
URL:https://cufarsta.nu/evenemang/hostlov-inga-scouter/
END:VEVENT
BEGIN:VEVENT
DTSTART;TZID=Europe/Stockholm:20241121T180000
DTEND;TZID=Europe/Stockholm:20241121T200000
DTSTAMP:20260421T055857
CREATED:20240927T145400Z
LAST-MODIFIED:20240927T145400Z
UID:6183-1732212000-1732219200@cufarsta.nu
SUMMARY:Fort Farsta
DESCRIPTION:Ni som vet\, ni vrt. \nÖvriga lär sig. Kul blir det oavsett! \nVälkomna
URL:https://cufarsta.nu/evenemang/fort-farsta-4/
END:VEVENT
BEGIN:VEVENT
DTSTART;TZID=Europe/Stockholm:20241208T100000
DTEND;TZID=Europe/Stockholm:20241208T120000
DTSTAMP:20260421T055857
CREATED:20240927T145852Z
LAST-MODIFIED:20240927T145852Z
UID:6185-1733652000-1733659200@cufarsta.nu
SUMMARY:Scoutgudstjänst med terminsavslutning och julfest
DESCRIPTION:Alla är varmt välkomna. \nScouterna samlas 09:45 \n \n 
URL:https://cufarsta.nu/evenemang/scoutgudstjanst-med-terminsavslutning-och-julfest/
LOCATION:Centrumkyrkan\, Farstaplan 15\, Farsta\, 123 47
END:VEVENT
BEGIN:VEVENT
DTSTART;TZID=Europe/Stockholm:20250116T180000
DTEND;TZID=Europe/Stockholm:20250116T180000
DTSTAMP:20260421T055857
CREATED:20240927T150250Z
LAST-MODIFIED:20240927T150337Z
UID:6187-1737050400-1737050400@cufarsta.nu
SUMMARY:Terminsstart för scouterna
DESCRIPTION:
URL:https://cufarsta.nu/evenemang/terminsstart-for-scouterna/
LOCATION:Centrumkyrkans scoutkår\, Farstaplan 15\, Farsta\, 123 47
END:VEVENT
BEGIN:VEVENT
DTSTART;TZID=Europe/Stockholm:20250213T180000
DTEND;TZID=Europe/Stockholm:20250213T193000
DTSTAMP:20260421T055857
CREATED:20250112T143508Z
LAST-MODIFIED:20250201T094048Z
UID:6390-1739469600-1739475000@cufarsta.nu
SUMMARY:Årsmöte
DESCRIPTION:Här finns handlingarna inför årsmötet. \nKallelse \nÅrsrapport \nBalansräkning \nResultaträkning \nUtfall budget \nBudget 2025 \n  \n  \n 
URL:https://cufarsta.nu/evenemang/arsmote-3/
LOCATION:Centrumkyrkan\, Farstaplan 15\, Farsta\, 123 47
END:VEVENT
BEGIN:VEVENT
DTSTART;TZID=Europe/Stockholm:20250215T100000
DTEND;TZID=Europe/Stockholm:20250215T140000
DTSTAMP:20260421T055857
CREATED:20250112T142814Z
LAST-MODIFIED:20250112T142814Z
UID:6384-1739613600-1739628000@cufarsta.nu
SUMMARY:Vinterdag i Ågesta
DESCRIPTION:Scouternas årliga vinterdag med test av isvak för den som vågar och övriga vintriga aktiviteter i Ågesta.
URL:https://cufarsta.nu/evenemang/vinterdag-i-agesta-2/
LOCATION:Scoutstugan i Ågesta
END:VEVENT
BEGIN:VEVENT
DTSTART;TZID=Europe/Stockholm:20250308T100000
DTEND;TZID=Europe/Stockholm:20250308T140000
DTSTAMP:20260421T055857
CREATED:20250112T143012Z
LAST-MODIFIED:20250112T143012Z
UID:6386-1741428000-1741442400@cufarsta.nu
SUMMARY:Skidåkning i Ågesta
DESCRIPTION:Dags att åka skidor\, kort\, långt\, bra eller dåligt. Du bestämmer!
URL:https://cufarsta.nu/evenemang/skidakning-i-agesta/
LOCATION:Ågesta Friluftsgård
END:VEVENT
BEGIN:VEVENT
DTSTART;TZID=Europe/Stockholm:20250316T100000
DTEND;TZID=Europe/Stockholm:20250316T120000
DTSTAMP:20260421T055857
CREATED:20250112T143657Z
LAST-MODIFIED:20250112T143657Z
UID:6392-1742119200-1742126400@cufarsta.nu
SUMMARY:Scoutgudstjänst med invigning
DESCRIPTION:
URL:https://cufarsta.nu/evenemang/scoutgudstjanst-med-invigning-3/
LOCATION:Centrumkyrkan\, Farstaplan 15\, Farsta\, 123 47
END:VEVENT
BEGIN:VEVENT
DTSTART;TZID=Europe/Stockholm:20250412T100000
DTEND;TZID=Europe/Stockholm:20250412T150000
DTSTAMP:20260421T055857
CREATED:20250405T113950Z
LAST-MODIFIED:20250405T113950Z
UID:6515-1744452000-1744470000@cufarsta.nu
SUMMARY:Arbetsdag scoutstuga
DESCRIPTION:Hej \nPå lördag är det arbetsdag på scoutstugan\nVi behöver gå igenom stugan tömma dass elda kvistar och löv.\nSen finns det en lång lista med saker att göra på plats.\nVi startar kl10\nTa med matsäck\nOch anmäl att ni kommer till mig på olof.svard@hotmail.com \nVälkomna alla scouter\, ledare och föräldrar/annhöriga
URL:https://cufarsta.nu/evenemang/arbetsdag-scoutstuga/
LOCATION:Djupån\, Karlsborgsleden\, Huddinge
END:VEVENT
BEGIN:VEVENT
DTSTART;TZID=Europe/Stockholm:20250426T100000
DTEND;TZID=Europe/Stockholm:20250426T140000
DTSTAMP:20260421T055857
CREATED:20250112T143142Z
LAST-MODIFIED:20250112T143142Z
UID:6388-1745661600-1745676000@cufarsta.nu
SUMMARY:Djupåracet
DESCRIPTION:Djupåracet är kårens årliga barkbåtstävling. Välkommen att vara med på seglatsen.
URL:https://cufarsta.nu/evenemang/djuparacet/
LOCATION:Scoutstugan i Ågesta
END:VEVENT
BEGIN:VEVENT
DTSTART;TZID=Europe/Stockholm:20250608T150000
DTEND;TZID=Europe/Stockholm:20250608T163000
DTSTAMP:20260421T055857
CREATED:20250604T140547Z
LAST-MODIFIED:20250608T172438Z
UID:6586-1749394800-1749400200@cufarsta.nu
SUMMARY:CU-scoutterminsavslutning vid scoutstugan på söndag den 8 juni klockan 15
DESCRIPTION:Samling kl 15 vid scoutstugan Djupån på söndag\, med enkelt fika.\nFör vägbeskrivning\, se Scoutstugan – Centrum­kyrkans ungdom i Farsta \nVälkomna ut hälsar kårchef Anna. \n 
URL:https://cufarsta.nu/evenemang/cu-ccoutterminsavslutning-vid-scoutstugan-pa-sondag-den-8-juni-klockan-15/
LOCATION:Djupån\, Karlsborgsleden\, Huddinge
END:VEVENT
BEGIN:VEVENT
DTSTART;VALUE=DATE:20250730
DTEND;VALUE=DATE:20250804
DTSTAMP:20260421T055857
CREATED:20250604T142112Z
LAST-MODIFIED:20250604T142112Z
UID:6591-1753833600-1754265599@cufarsta.nu
SUMMARY:SkärgårdsÖS - Scoutläger
DESCRIPTION:Du kommer väl med? \nAnmäl dig här \nInfobroschyr: SKÄRGÅRDSÖS2025
URL:https://cufarsta.nu/evenemang/skargardsos-scoutlager/
LOCATION:Björnö\, Norrviken\, Björnö Norrviken\, Ingarö\, Sweden
END:VEVENT
BEGIN:VEVENT
DTSTART;TZID=Europe/Stockholm:20250821T180000
DTEND;TZID=Europe/Stockholm:20250821T210000
DTSTAMP:20260421T055857
CREATED:20250805T180109Z
LAST-MODIFIED:20250805T180249Z
UID:6686-1755799200-1755810000@cufarsta.nu
SUMMARY:Ledarupptakt - scout
DESCRIPTION:Hej! \nBra jobbat alla med lägret\, packning\, uppackning och disken! \nVi ses på ledarsamling 21/8 kl 18\, i kyrkan. \nDå ska vi. \n\nUtvärdera lägret\nSe över ledartillgången i alla grupper.\nKungsträdgården 23/8\nScoutstart 28/8.\nHöstens gemensamma aktiviteter\nNästa års läger?! Jamboree!\nÖvrigt\n\n  \nMed vänlig hälsning \nAnna
URL:https://cufarsta.nu/evenemang/ledarupptakt-scout-2/
LOCATION:Centrumkyrkans scoutkår\, Farstaplan 15\, Farsta\, 123 47
END:VEVENT
BEGIN:VEVENT
DTSTART;TZID=Europe/Stockholm:20250823T110000
DTEND;TZID=Europe/Stockholm:20250823T160000
DTSTAMP:20260421T055857
CREATED:20250608T175537Z
LAST-MODIFIED:20250608T175537Z
UID:6650-1755946800-1755964800@cufarsta.nu
SUMMARY:Hjärta Stockholm - festival för fred!
DESCRIPTION:Scouterna deltar på festival för fred i Kungsträdgården. Mer info kommer.
URL:https://cufarsta.nu/evenemang/hjarta-stockholm-festival-for-fred/
LOCATION:Kungsträdgården
END:VEVENT
BEGIN:VEVENT
DTSTART;TZID=Europe/Stockholm:20250828T180000
DTEND;TZID=Europe/Stockholm:20250828T200000
DTSTAMP:20260421T055857
CREATED:20250608T163218Z
LAST-MODIFIED:20250608T163441Z
UID:6624-1756404000-1756411200@cufarsta.nu
SUMMARY:Scoutstart
DESCRIPTION:Nu börjar vi terminen igen. \nDu kommer väl? Och tag gärna med en kompis. \nHälsar ledarna
URL:https://cufarsta.nu/evenemang/scoutstart-14/
END:VEVENT
BEGIN:VEVENT
DTSTART;TZID=Europe/Stockholm:20250913T100000
DTEND;TZID=Europe/Stockholm:20250913T140000
DTSTAMP:20260421T055857
CREATED:20250828T200503Z
LAST-MODIFIED:20250828T200503Z
UID:6817-1757757600-1757772000@cufarsta.nu
SUMMARY:Lördagsscout
DESCRIPTION:För tid och plats se mejl från dina ledare
URL:https://cufarsta.nu/evenemang/lordagsscout-2/
END:VEVENT
BEGIN:VEVENT
DTSTART;TZID=Europe/Stockholm:20250914T120000
DTEND;TZID=Europe/Stockholm:20250914T170000
DTSTAMP:20260421T055857
CREATED:20250824T220411Z
LAST-MODIFIED:20250909T081219Z
UID:6806-1757851200-1757869200@cufarsta.nu
SUMMARY:Arbetsdag - scoutstugan
DESCRIPTION:Välkommen med för att göra scoutstugan ännu trevligare att vara i \nMen glöm inte att anmäla dig till Olle.  \nUppgifter att utföra:  \nAttgöralista inför arbetsdagen i september dom Olle bjuder in till…\n1. Surra om slanförrådet\n2. Att metallsko fönsterluckebågarnas skruvhål hål\n3. Jämna ut marken nedanför lägerbålsringen\n4. Montera solcell 2 på vägg\n5. Slyröjning\n6. Slutmåla entretrapp\n7. Planera/bygga lägerkök\n8. Grundläggning för slogbod\n9. Fälla flaggstång\, byta block och rep\n10. Panela vindsdörren\n11. Slutföra köksluckehantagen – splejs mm\n12. . Gräva ned cementring vid utohusdisken.\n13. Tomma dass\n14. Städa dass\n15. Fixa grävlingshål\n16. Ta ned getingbo.\n17. Stränga gitarr\n18. Måla omålad skåpvägg vit i köket\n19. Medtag 10l dunkar frän kyrkan inkl saker i förrådet.\n20. Testa räddningsstege\n21. Sopa och städa stuga\, sovloft och förråd.
URL:https://cufarsta.nu/evenemang/arbetsdag-scoutstugan-8/
LOCATION:Djupån\, Karlsborgsleden\, Huddinge
END:VEVENT
BEGIN:VEVENT
DTSTART;TZID=Europe/Stockholm:20251006T080000
DTEND;TZID=Europe/Stockholm:20251006T170000
DTSTAMP:20260421T055857
CREATED:20250805T143234Z
LAST-MODIFIED:20250805T143252Z
UID:6677-1759737600-1759770000@cufarsta.nu
SUMMARY:Ledarfest - arrangeras av Equmenia Stockholm - distriktet
DESCRIPTION:Mer information kommer…
URL:https://cufarsta.nu/evenemang/ledarfest-arrangeras-av-equmenia-stockholm-distriktet/
END:VEVENT
BEGIN:VEVENT
DTSTART;VALUE=DATE:20251011
DTEND;VALUE=DATE:20251012
DTSTAMP:20260421T055857
CREATED:20250805T143559Z
LAST-MODIFIED:20250821T180037Z
UID:6680-1760140800-1760227199@cufarsta.nu
SUMMARY:Kämpaleken
DESCRIPTION:Arrangeras i år av Valsätra – Uppsala = Tidig start\, och lång resa. Vi behöver hjälp med biltransport. \nSe mer här: https://equmenia.se/kalender/kampaleken-2025/ \nInformation om anmälan kommer via din ledare.
URL:https://cufarsta.nu/evenemang/kampaleken-11/
LOCATION:Uppsala
END:VEVENT
BEGIN:VEVENT
DTSTART;TZID=Europe/Stockholm:20251016T180000
DTEND;TZID=Europe/Stockholm:20251016T203000
DTSTAMP:20260421T055857
CREATED:20250824T213849Z
LAST-MODIFIED:20250828T200400Z
UID:6794-1760637600-1760646600@cufarsta.nu
SUMMARY:Ingen scouttorsdag - vi scoutade i lördags istället
DESCRIPTION:Ingen scouttorsdag – vi scoutade i lördags istället
URL:https://cufarsta.nu/evenemang/ingen-scouttorsdag-vi-scoutar-pa-lordag-istallet/
END:VEVENT
BEGIN:VEVENT
DTSTART;TZID=Europe/Stockholm:20251019T100000
DTEND;TZID=Europe/Stockholm:20251019T120000
DTSTAMP:20260421T055857
CREATED:20251014T224831Z
LAST-MODIFIED:20251014T224831Z
UID:6890-1760868000-1760875200@cufarsta.nu
SUMMARY:Scoutgudstjänst med märkesutdelning
DESCRIPTION:Samling klockan 09:45 för scouter och ledare. \nVarmt välkomna \n 
URL:https://cufarsta.nu/evenemang/scoutgudstjanst-med-markesutdelning/
LOCATION:Centrumkyrkans scoutkår\, Farstaplan 15\, Farsta\, 123 47
END:VEVENT
BEGIN:VEVENT
DTSTART;VALUE=DATE:20251029
DTEND;VALUE=DATE:20251103
DTSTAMP:20260421T055857
CREATED:20250805T144032Z
LAST-MODIFIED:20250805T145218Z
UID:6683-1761696000-1762127999@cufarsta.nu
SUMMARY:Equmenia Stockholnm: Ledarutbildningen SkaUt
DESCRIPTION:Vill du lära känna nya scouter och få nya kunskaper är detta kursen för dig. \nPrata med din ledare för mer info.
URL:https://cufarsta.nu/evenemang/equmenia-stockholnm-ledarutbildningen-skaut/
END:VEVENT
BEGIN:VEVENT
DTSTART;TZID=Europe/Stockholm:20251030T180000
DTEND;TZID=Europe/Stockholm:20251030T203000
DTSTAMP:20260421T055857
CREATED:20251023T222643Z
LAST-MODIFIED:20251023T222643Z
UID:6933-1761847200-1761856200@cufarsta.nu
SUMMARY:Ingen scout\, höstlov
DESCRIPTION:Ni får scouta på egen hand
URL:https://cufarsta.nu/evenemang/ingen-scout-hostlov/
END:VEVENT
BEGIN:VEVENT
DTSTART;TZID=Europe/Stockholm:20251108T100000
DTEND;TZID=Europe/Stockholm:20251108T140000
DTSTAMP:20260421T055857
CREATED:20250828T200601Z
LAST-MODIFIED:20251023T221548Z
UID:6819-1762596000-1762610400@cufarsta.nu
SUMMARY:Lördagsscout
DESCRIPTION:För tid och plats se mejl från dina ledare. \nGäller ej Äventyrare och Utmanare.
URL:https://cufarsta.nu/evenemang/lordagsscout-3/
END:VEVENT
BEGIN:VEVENT
DTSTART;TZID=Europe/Stockholm:20251113T180000
DTEND;TZID=Europe/Stockholm:20251113T210000
DTSTAMP:20260421T055857
CREATED:20250824T213510Z
LAST-MODIFIED:20250824T213510Z
UID:6790-1763056800-1763067600@cufarsta.nu
SUMMARY:Ledarsamling / kårkvarter - ingen scout
DESCRIPTION:Ledarna planerar. Scouterna scoutar på egen hand.
URL:https://cufarsta.nu/evenemang/ledarsamling-karkvarter-ingen-scout/
END:VEVENT
END:VCALENDAR