BEGIN:VCALENDAR
VERSION:2.0
PRODID:-//Centrum­kyrkans ungdom i Farsta - ECPv6.15.20//NONSGML v1.0//EN
CALSCALE:GREGORIAN
METHOD:PUBLISH
X-ORIGINAL-URL:https://cufarsta.nu
X-WR-CALDESC:Händelser för Centrum­kyrkans ungdom i Farsta
REFRESH-INTERVAL;VALUE=DURATION:PT1H
X-Robots-Tag:noindex
X-PUBLISHED-TTL:PT1H
BEGIN:VTIMEZONE
TZID:Europe/Stockholm
BEGIN:DAYLIGHT
TZOFFSETFROM:+0100
TZOFFSETTO:+0200
TZNAME:CEST
DTSTART:20220327T010000
END:DAYLIGHT
BEGIN:STANDARD
TZOFFSETFROM:+0200
TZOFFSETTO:+0100
TZNAME:CET
DTSTART:20221030T010000
END:STANDARD
BEGIN:DAYLIGHT
TZOFFSETFROM:+0100
TZOFFSETTO:+0200
TZNAME:CEST
DTSTART:20230326T010000
END:DAYLIGHT
BEGIN:STANDARD
TZOFFSETFROM:+0200
TZOFFSETTO:+0100
TZNAME:CET
DTSTART:20231029T010000
END:STANDARD
BEGIN:DAYLIGHT
TZOFFSETFROM:+0100
TZOFFSETTO:+0200
TZNAME:CEST
DTSTART:20240331T010000
END:DAYLIGHT
BEGIN:STANDARD
TZOFFSETFROM:+0200
TZOFFSETTO:+0100
TZNAME:CET
DTSTART:20241027T010000
END:STANDARD
BEGIN:DAYLIGHT
TZOFFSETFROM:+0100
TZOFFSETTO:+0200
TZNAME:CEST
DTSTART:20250330T010000
END:DAYLIGHT
BEGIN:STANDARD
TZOFFSETFROM:+0200
TZOFFSETTO:+0100
TZNAME:CET
DTSTART:20251026T010000
END:STANDARD
END:VTIMEZONE
BEGIN:VEVENT
DTSTART;TZID=Europe/Stockholm:20230831T180000
DTEND;TZID=Europe/Stockholm:20230831T193000
DTSTAMP:20260420T174304
CREATED:20230124T202933Z
LAST-MODIFIED:20230603T052549Z
UID:5269-1693504800-1693510200@cufarsta.nu
SUMMARY:Scoutstart HT 2023
DESCRIPTION:Nu börjar vi igen…
URL:https://cufarsta.nu/evenemang/scoutstart-ht-2023/
LOCATION:Centrumkyrkans scoutkår\, Farstaplan 15\, Farsta\, 123 47
END:VEVENT
BEGIN:VEVENT
DTSTART;TZID=Europe/Stockholm:20230831T180000
DTEND;TZID=Europe/Stockholm:20230831T193000
DTSTAMP:20260420T174304
CREATED:20230603T052836Z
LAST-MODIFIED:20230603T052836Z
UID:5465-1693504800-1693510200@cufarsta.nu
SUMMARY:Ledarutbildning träff 1
DESCRIPTION:Utbildning för föräldrar och andra som vill hjälpa till i kåren.
URL:https://cufarsta.nu/evenemang/ledarutbildning-traff-1-2/
LOCATION:Centrumkyrkan\, Farstaplan 15\, Farsta\, 123 47
END:VEVENT
BEGIN:VEVENT
DTSTART;TZID=Europe/Stockholm:20230902T100000
DTEND;TZID=Europe/Stockholm:20230902T140000
DTSTAMP:20260420T174304
CREATED:20230603T053019Z
LAST-MODIFIED:20230603T053019Z
UID:5467-1693648800-1693663200@cufarsta.nu
SUMMARY:Ledarutbildning träff 2
DESCRIPTION:Utbildning för föräldrar och andra som vill hjälpa till i kåren.
URL:https://cufarsta.nu/evenemang/ledarutbildning-traff-2-2/
LOCATION:Ågesta Friluftsgård
END:VEVENT
BEGIN:VEVENT
DTSTART;TZID=Europe/Stockholm:20230902T140000
DTEND;TZID=Europe/Stockholm:20230902T180000
DTSTAMP:20260420T174304
CREATED:20230603T053223Z
LAST-MODIFIED:20230603T053223Z
UID:5471-1693663200-1693677600@cufarsta.nu
SUMMARY:Ledarsamling
DESCRIPTION:
URL:https://cufarsta.nu/evenemang/ledarsamling-4/
LOCATION:Ågesta Friluftsgård
END:VEVENT
BEGIN:VEVENT
DTSTART;TZID=Europe/Stockholm:20230907T180000
DTEND;TZID=Europe/Stockholm:20230907T193000
DTSTAMP:20260420T174304
CREATED:20230603T053117Z
LAST-MODIFIED:20230603T053117Z
UID:5469-1694109600-1694115000@cufarsta.nu
SUMMARY:Ledarutbildning träff 3
DESCRIPTION:Utbildning för föräldrar och andra som vill hjälpa till i kåren.
URL:https://cufarsta.nu/evenemang/ledarutbildning-traff-3-2/
END:VEVENT
BEGIN:VEVENT
DTSTART;TZID=Europe/Stockholm:20230916T100000
DTEND;TZID=Europe/Stockholm:20230916T150000
DTSTAMP:20260420T174304
CREATED:20230904T185944Z
LAST-MODIFIED:20230914T172611Z
UID:5619-1694858400-1694876400@cufarsta.nu
SUMMARY:Lördagsscouter för Äventyrar- och Utmanarscouter
DESCRIPTION:
URL:https://cufarsta.nu/evenemang/lordagsscouter/
END:VEVENT
BEGIN:VEVENT
DTSTART;TZID=Europe/Stockholm:20230916T110000
DTEND;TZID=Europe/Stockholm:20230916T130000
DTSTAMP:20260420T174304
CREATED:20230914T172451Z
LAST-MODIFIED:20230914T183607Z
UID:5664-1694862000-1694869200@cufarsta.nu
SUMMARY:Lördagsscouter för Spårar- och Upptäckarscouter
DESCRIPTION:Scoutstugan i Ågesta. Obs tiden 11-13!
URL:https://cufarsta.nu/evenemang/lordagsscouter-for-spararscouter/
LOCATION:Ågesta Friluftsgård
END:VEVENT
BEGIN:VEVENT
DTSTART;TZID=Europe/Stockholm:20230923T100000
DTEND;TZID=Europe/Stockholm:20230923T140000
DTSTAMP:20260420T174304
CREATED:20230603T053542Z
LAST-MODIFIED:20230603T053542Z
UID:5473-1695463200-1695477600@cufarsta.nu
SUMMARY:Terminsstart Bäverscout
DESCRIPTION:Bäverscouterna startar med scoutträff i scoutstugan i Ågesta.
URL:https://cufarsta.nu/evenemang/terminsstart-baverscout/
END:VEVENT
BEGIN:VEVENT
DTSTART;TZID=Europe/Stockholm:20231008T100000
DTEND;TZID=Europe/Stockholm:20231008T110000
DTSTAMP:20260420T174304
CREATED:20230904T190132Z
LAST-MODIFIED:20230904T190132Z
UID:5621-1696759200-1696762800@cufarsta.nu
SUMMARY:Scoutgudstjänst med invigning
DESCRIPTION:
URL:https://cufarsta.nu/evenemang/scoutgudstjanst-med-invigning/
LOCATION:Centrumkyrkan\, Farstaplan 15\, Farsta\, 123 47
END:VEVENT
BEGIN:VEVENT
DTSTART;TZID=Europe/Stockholm:20231014T080000
DTEND;TZID=Europe/Stockholm:20231014T170000
DTSTAMP:20260420T174304
CREATED:20230808T171325Z
LAST-MODIFIED:20230808T171345Z
UID:5602-1697270400-1697302800@cufarsta.nu
SUMMARY:Kämpaleken
DESCRIPTION:Reservera datumet.\nMöjlighet att hajka finns.\nPlats: Återkommer vi till… \nTrevliga minnen från förra årets Kämpalek i Uppsala—
URL:https://cufarsta.nu/evenemang/kampaleken-9/
END:VEVENT
BEGIN:VEVENT
DTSTART;TZID=Europe/Stockholm:20231021T100000
DTEND;TZID=Europe/Stockholm:20231021T140000
DTSTAMP:20260420T174304
CREATED:20230904T190320Z
LAST-MODIFIED:20230904T190320Z
UID:5623-1697882400-1697896800@cufarsta.nu
SUMMARY:Bäverscouter
DESCRIPTION:Bäverscouter vid scoutstugan i Ågesta.
URL:https://cufarsta.nu/evenemang/baverscouter-3/
LOCATION:Ågesta Friluftsgård
END:VEVENT
BEGIN:VEVENT
DTSTART;TZID=Europe/Stockholm:20231111T100000
DTEND;TZID=Europe/Stockholm:20231111T140000
DTSTAMP:20260420T174304
CREATED:20230904T190418Z
LAST-MODIFIED:20230904T190418Z
UID:5625-1699696800-1699711200@cufarsta.nu
SUMMARY:Lördagsscouter
DESCRIPTION:
URL:https://cufarsta.nu/evenemang/lordagsscouter-2/
LOCATION:Ågesta Friluftsgård
END:VEVENT
BEGIN:VEVENT
DTSTART;TZID=Europe/Stockholm:20231118T100000
DTEND;TZID=Europe/Stockholm:20231118T140000
DTSTAMP:20260420T174304
CREATED:20230904T190505Z
LAST-MODIFIED:20230904T190553Z
UID:5627-1700301600-1700316000@cufarsta.nu
SUMMARY:Bäverscouter
DESCRIPTION:Bäverscouter vid scoutstugan i Ågesta.
URL:https://cufarsta.nu/evenemang/baverscouter-4/
LOCATION:Ågesta Friluftsgård
END:VEVENT
BEGIN:VEVENT
DTSTART;TZID=Europe/Stockholm:20231210T100000
DTEND;TZID=Europe/Stockholm:20231210T120000
DTSTAMP:20260420T174304
CREATED:20230904T190704Z
LAST-MODIFIED:20230904T190731Z
UID:5629-1702202400-1702209600@cufarsta.nu
SUMMARY:Terminsavslutning med invigning
DESCRIPTION:Scoutgudstjänst med invigning och terminsavslutning.
URL:https://cufarsta.nu/evenemang/terminsavslutning-med-invigning/
LOCATION:Centrumkyrkan\, Farstaplan 15\, Farsta\, 123 47
END:VEVENT
BEGIN:VEVENT
DTSTART;TZID=Europe/Stockholm:20231216T110000
DTEND;TZID=Europe/Stockholm:20231216T140000
DTSTAMP:20260420T174304
CREATED:20231210T205828Z
LAST-MODIFIED:20231210T212257Z
UID:5730-1702724400-1702735200@cufarsta.nu
SUMMARY:Julglögg vid scoutstugan
DESCRIPTION:Något oklart vad gäller tider och innehåll men ryktet förtäljer att stugfogdarna bjuder på glögg med tilltugg på lördag.\n\nDetta som en avkoppling från den stressiga julhetsen. \nVälkomna ledare med familjer till en avslappnad tillställning. \nTiderna är ungefärlig men stugan och glöggen  bör vara varm i vårt fall mellan 11 till 14. \nVill du veta mer\, kontakta Olle.
URL:https://cufarsta.nu/evenemang/julglogg-vid-scoutstugan/
LOCATION:Djupån\, Karlsborgsleden\, Huddinge
END:VEVENT
BEGIN:VEVENT
DTSTART;TZID=Europe/Stockholm:20240125T180000
DTEND;TZID=Europe/Stockholm:20240125T200000
DTSTAMP:20260420T174304
CREATED:20231210T210603Z
LAST-MODIFIED:20231210T210603Z
UID:5732-1706205600-1706212800@cufarsta.nu
SUMMARY:Scoutstart
DESCRIPTION:Nu börjar vi igen
URL:https://cufarsta.nu/evenemang/scoutstart-8/
LOCATION:Centrumkyrkan\, Farstaplan 15\, Farsta\, 123 47
END:VEVENT
BEGIN:VEVENT
DTSTART;TZID=Europe/Stockholm:20240215T180000
DTEND;TZID=Europe/Stockholm:20240215T200000
DTSTAMP:20260420T174304
CREATED:20240121T093430Z
LAST-MODIFIED:20240205T202628Z
UID:5775-1708020000-1708027200@cufarsta.nu
SUMMARY:Årsmöte
DESCRIPTION:Välkommen till årsmöte! \nÅrsmöteshandlingar: \nKlicka för att komma åt CU_arsmote_2024.pdf \nKlicka för att komma åt CUs-Verksamhetsberattelse-2023.pdf \nKlicka för att komma åt Balansrakning2023.pdf \nKlicka för att komma åt Resultatrakning2023.pdf \nKlicka för att komma åt Utfall2023_Budget2024.pdf \n 
URL:https://cufarsta.nu/evenemang/arsmote-2/
END:VEVENT
BEGIN:VEVENT
DTSTART;TZID=Europe/Stockholm:20240217T100000
DTEND;TZID=Europe/Stockholm:20240217T140000
DTSTAMP:20260420T174304
CREATED:20240121T093654Z
LAST-MODIFIED:20240121T093654Z
UID:5777-1708164000-1708178400@cufarsta.nu
SUMMARY:Vinterdag i Ågesta
DESCRIPTION:Alla grupper ses för vinteraktiviteter i Ågesta (utom bävrar som håller till på Farstanäset).
URL:https://cufarsta.nu/evenemang/vinterdag-i-agesta/
LOCATION:Ågesta Friluftsgård
END:VEVENT
BEGIN:VEVENT
DTSTART;TZID=Europe/Stockholm:20240217T102000
DTEND;TZID=Europe/Stockholm:20240217T140000
DTSTAMP:20260420T174304
CREATED:20240121T093843Z
LAST-MODIFIED:20240121T183355Z
UID:5779-1708165200-1708178400@cufarsta.nu
SUMMARY:Bäverscout
DESCRIPTION:Denna gång ses vi på Farstanäset för vinteraktiviteter och eldning. \nObs! Ny starttid: 10.20.
URL:https://cufarsta.nu/evenemang/baverscout-5/
LOCATION:Farstanäset
END:VEVENT
BEGIN:VEVENT
DTSTART;TZID=Europe/Stockholm:20240302T100000
DTEND;TZID=Europe/Stockholm:20240302T140000
DTSTAMP:20260420T174304
CREATED:20240227T191856Z
LAST-MODIFIED:20240227T193220Z
UID:5905-1709373600-1709388000@cufarsta.nu
SUMMARY:Arbetsdag scoutstugan
DESCRIPTION:Från 10-14. \nMedtsg srbetdklsder. \nPrgram: Koll och röjning inför vårens uthyrningar. \nMeddela Olle att dubkommer. \n/Stugfogdarna
URL:https://cufarsta.nu/evenemang/arbetsdag-scoutstugan-7/
LOCATION:Djupån\, Karlsborgsleden\, Huddinge
END:VEVENT
BEGIN:VEVENT
DTSTART;TZID=Europe/Stockholm:20240307T180000
DTEND;TZID=Europe/Stockholm:20240307T193000
DTSTAMP:20260420T174304
CREATED:20240121T181849Z
LAST-MODIFIED:20240121T181849Z
UID:5784-1709834400-1709839800@cufarsta.nu
SUMMARY:Föräldramöte inför scoutlägret Större
DESCRIPTION:Alla föräldrar och vårdnadshavare är välkomna att höra mer om kåren och få viktig information om scoutlägret Större inför anmälan.
URL:https://cufarsta.nu/evenemang/foraldramote-infor-scoutlagret-storre/
LOCATION:Centrumkyrkan\, Farstaplan 15\, Farsta\, 123 47
END:VEVENT
BEGIN:VEVENT
DTSTART;TZID=Europe/Stockholm:20240309T100000
DTEND;TZID=Europe/Stockholm:20240309T140000
DTSTAMP:20260420T174304
CREATED:20240121T182241Z
LAST-MODIFIED:20240121T182241Z
UID:5788-1709978400-1709992800@cufarsta.nu
SUMMARY:Lördagsscout
DESCRIPTION:Vi åker skidor i Ågesta. \nDu som har egna längdskidor kan ta med\, för övriga har vi att låna.
URL:https://cufarsta.nu/evenemang/lordagsscout/
LOCATION:Ågesta Friluftsgård
END:VEVENT
BEGIN:VEVENT
DTSTART;TZID=Europe/Stockholm:20240309T102000
DTEND;TZID=Europe/Stockholm:20240309T140000
DTSTAMP:20260420T174304
CREATED:20240121T182035Z
LAST-MODIFIED:20240121T182035Z
UID:5786-1709979600-1709992800@cufarsta.nu
SUMMARY:Bäverscout
DESCRIPTION:Samling vid Ågesta friluftsgård för promenad till scoutstugan. \nObs\, ny tid: 10.20.
URL:https://cufarsta.nu/evenemang/baverscout-6/
LOCATION:Ågesta Friluftsgård
END:VEVENT
BEGIN:VEVENT
DTSTART;TZID=Europe/Stockholm:20240310T100000
DTEND;TZID=Europe/Stockholm:20240310T113000
DTSTAMP:20260420T174304
CREATED:20240121T094029Z
LAST-MODIFIED:20240121T094029Z
UID:5782-1710064800-1710070200@cufarsta.nu
SUMMARY:Gudstjänst med scoutinvigning
DESCRIPTION:
URL:https://cufarsta.nu/evenemang/gudstjanst-med-scoutinvigning-2/
LOCATION:Centrumkyrkan\, Farstaplan 15\, Farsta\, 123 47
END:VEVENT
BEGIN:VEVENT
DTSTART;TZID=Europe/Stockholm:20240310T130000
DTEND;TZID=Europe/Stockholm:20240310T143000
DTSTAMP:20260420T174304
CREATED:20240224T124922Z
LAST-MODIFIED:20240227T200227Z
UID:5898-1710075600-1710081000@cufarsta.nu
SUMMARY:Återträff för tidigare scouter
DESCRIPTION:Har du varit scout hos oss för ett tag sen? \nVi är nyfikna på hur du har det\, och vill uppmuntra dig att återkomma till oss i scoutkåren. \nUnder sommaren som kommer kommer vi att åka på ett stort läger i Värmland\, STÖRRE\, kanske är det här en perfekt sommar att återuppväcka scoutkänslan inom dig. Självklart så är det roligt om du kommer och bara pratar gamla minnen och hälsar på. Vi börjar med en scoutgudstjänst\, efter så bjuder vi på tacos och information om sommarens läger. \nOm du vill komma enbart på återträffen så går det fint att dyka upp hungrig vid 12.30-13-tiden. \n \nVälkommen!
URL:https://cufarsta.nu/evenemang/atertraff-for-tidigare-scouter/
LOCATION:Centrumkyrkan\, Farstaplan 15\, Farsta\, 123 47
ATTACH;FMTTYPE=image/png:https://media.cufarsta.nu/2024/02/image001-1.png
END:VEVENT
BEGIN:VEVENT
DTSTART;VALUE=DATE:20240331
DTEND;VALUE=DATE:20240401
DTSTAMP:20260420T174304
CREATED:20240121T182441Z
LAST-MODIFIED:20240121T182441Z
UID:5790-1711843200-1711929599@cufarsta.nu
SUMMARY:Sista anmälningsdag till Större
DESCRIPTION:Sista dag att anmäla sig till sommarens läger större som är den 27 juli-2 augusti i Värmland. \nInformation och länk för anmälan kommer.
URL:https://cufarsta.nu/evenemang/sista-anmalningsdag-till-storre/
END:VEVENT
BEGIN:VEVENT
DTSTART;TZID=Europe/Stockholm:20240413T100000
DTEND;TZID=Europe/Stockholm:20240413T140000
DTSTAMP:20260420T174304
CREATED:20240121T182609Z
LAST-MODIFIED:20240121T182609Z
UID:5792-1713002400-1713016800@cufarsta.nu
SUMMARY:Scoutlördag
DESCRIPTION:Dags för djupåracet i Djupån vid scoutstugan.
URL:https://cufarsta.nu/evenemang/scoutlordag/
LOCATION:Ågesta Friluftsgård
END:VEVENT
BEGIN:VEVENT
DTSTART;TZID=Europe/Stockholm:20240420T102000
DTEND;TZID=Europe/Stockholm:20240420T140000
DTSTAMP:20260420T174304
CREATED:20240121T182740Z
LAST-MODIFIED:20240121T182740Z
UID:5794-1713608400-1713621600@cufarsta.nu
SUMMARY:Bäverscout
DESCRIPTION:
URL:https://cufarsta.nu/evenemang/baverscout-7/
LOCATION:Ågesta Friluftsgård
END:VEVENT
BEGIN:VEVENT
DTSTART;TZID=Europe/Stockholm:20240504T100000
DTEND;TZID=Europe/Stockholm:20240504T150000
DTSTAMP:20260420T174304
CREATED:20240416T192714Z
LAST-MODIFIED:20240416T192832Z
UID:5949-1714816800-1714834800@cufarsta.nu
SUMMARY:Arbetsdag vid scoutstugan lördagen den 4 maj.
DESCRIPTION:Nu är det dags för arbetsdag igen. \nDet finns mycket att göra vid scoutstugan och uppgifter åt alla. Föräldrar äd speciellt välkomna. \nOch säger ni till innan sa kommer Olle att fixa lite extra gor fika. \nVi håller på mellan 10 och 15 ungefär. Men det går att ansluta när som helst under dagen. \nVälkomna ut hälsar stugfogdarna \nGenom Dsg \n  \n 
URL:https://cufarsta.nu/evenemang/arbetsdag-vid-scoutstugan-lordagen-den-4-maj/
LOCATION:Djupån\, Karlsborgsleden\, Huddinge
END:VEVENT
BEGIN:VEVENT
DTSTART;TZID=Europe/Stockholm:20240518T100000
DTEND;TZID=Europe/Stockholm:20240519T140000
DTSTAMP:20260420T174304
CREATED:20240121T182932Z
LAST-MODIFIED:20240121T182932Z
UID:5798-1716026400-1716127200@cufarsta.nu
SUMMARY:Hajk för upptäckare
DESCRIPTION:
URL:https://cufarsta.nu/evenemang/hajk-for-upptackare/
LOCATION:Ågesta Friluftsgård
END:VEVENT
END:VCALENDAR