BEGIN:VCALENDAR
VERSION:2.0
PRODID:-//Centrum­kyrkans ungdom i Farsta - ECPv6.15.20//NONSGML v1.0//EN
CALSCALE:GREGORIAN
METHOD:PUBLISH
X-ORIGINAL-URL:https://cufarsta.nu
X-WR-CALDESC:Händelser för Centrum­kyrkans ungdom i Farsta
REFRESH-INTERVAL;VALUE=DURATION:PT1H
X-Robots-Tag:noindex
X-PUBLISHED-TTL:PT1H
BEGIN:VTIMEZONE
TZID:Europe/Stockholm
BEGIN:DAYLIGHT
TZOFFSETFROM:+0100
TZOFFSETTO:+0200
TZNAME:CEST
DTSTART:20230326T010000
END:DAYLIGHT
BEGIN:STANDARD
TZOFFSETFROM:+0200
TZOFFSETTO:+0100
TZNAME:CET
DTSTART:20231029T010000
END:STANDARD
BEGIN:DAYLIGHT
TZOFFSETFROM:+0100
TZOFFSETTO:+0200
TZNAME:CEST
DTSTART:20240331T010000
END:DAYLIGHT
BEGIN:STANDARD
TZOFFSETFROM:+0200
TZOFFSETTO:+0100
TZNAME:CET
DTSTART:20241027T010000
END:STANDARD
BEGIN:DAYLIGHT
TZOFFSETFROM:+0100
TZOFFSETTO:+0200
TZNAME:CEST
DTSTART:20250330T010000
END:DAYLIGHT
BEGIN:STANDARD
TZOFFSETFROM:+0200
TZOFFSETTO:+0100
TZNAME:CET
DTSTART:20251026T010000
END:STANDARD
END:VTIMEZONE
BEGIN:VEVENT
DTSTART;TZID=Europe/Stockholm:20240601T100000
DTEND;TZID=Europe/Stockholm:20240602T140000
DTSTAMP:20260421T025746
CREATED:20240121T183030Z
LAST-MODIFIED:20240121T183030Z
UID:5800-1717236000-1717336800@cufarsta.nu
SUMMARY:Hajk för bävrar och spårare
DESCRIPTION:
URL:https://cufarsta.nu/evenemang/hajk-for-bavrar-och-sparare/
END:VEVENT
BEGIN:VEVENT
DTSTART;TZID=Europe/Stockholm:20240602T100000
DTEND;TZID=Europe/Stockholm:20240602T120000
DTSTAMP:20260421T025746
CREATED:20240121T183233Z
LAST-MODIFIED:20240121T183233Z
UID:5802-1717322400-1717329600@cufarsta.nu
SUMMARY:Terminsavslutning
DESCRIPTION:Vi ses vid scoutstugan för terminsavslutning\, invigning och märkesutdelning.
URL:https://cufarsta.nu/evenemang/terminsavslutning/
LOCATION:Scoutstugan i Ågesta
END:VEVENT
END:VCALENDAR