BEGIN:VCALENDAR
VERSION:2.0
PRODID:-//Centrum­kyrkans ungdom i Farsta - ECPv6.15.20//NONSGML v1.0//EN
CALSCALE:GREGORIAN
METHOD:PUBLISH
X-WR-CALNAME:Centrum­kyrkans ungdom i Farsta
X-ORIGINAL-URL:https://cufarsta.nu
X-WR-CALDESC:Händelser för Centrum­kyrkans ungdom i Farsta
REFRESH-INTERVAL;VALUE=DURATION:PT1H
X-Robots-Tag:noindex
X-PUBLISHED-TTL:PT1H
BEGIN:VTIMEZONE
TZID:Europe/Stockholm
BEGIN:DAYLIGHT
TZOFFSETFROM:+0100
TZOFFSETTO:+0200
TZNAME:CEST
DTSTART:20230326T010000
END:DAYLIGHT
BEGIN:STANDARD
TZOFFSETFROM:+0200
TZOFFSETTO:+0100
TZNAME:CET
DTSTART:20231029T010000
END:STANDARD
BEGIN:DAYLIGHT
TZOFFSETFROM:+0100
TZOFFSETTO:+0200
TZNAME:CEST
DTSTART:20240331T010000
END:DAYLIGHT
BEGIN:STANDARD
TZOFFSETFROM:+0200
TZOFFSETTO:+0100
TZNAME:CET
DTSTART:20241027T010000
END:STANDARD
BEGIN:DAYLIGHT
TZOFFSETFROM:+0100
TZOFFSETTO:+0200
TZNAME:CEST
DTSTART:20250330T010000
END:DAYLIGHT
BEGIN:STANDARD
TZOFFSETFROM:+0200
TZOFFSETTO:+0100
TZNAME:CET
DTSTART:20251026T010000
END:STANDARD
END:VTIMEZONE
BEGIN:VEVENT
DTSTART;TZID=Europe/Stockholm:20241012T080000
DTEND;TZID=Europe/Stockholm:20241012T170000
DTSTAMP:20260421T085437
CREATED:20240825T182238Z
LAST-MODIFIED:20240825T182247Z
UID:6106-1728720000-1728752400@cufarsta.nu
SUMMARY:Kämpaleken
DESCRIPTION:Plats: Paradiset \nTema: Målspår. \nMer info: Se Kämpalek Stockholm 2024 – Equmenia
URL:https://cufarsta.nu/evenemang/kampaleken-10/
END:VEVENT
BEGIN:VEVENT
DTSTART;TZID=Europe/Stockholm:20241020T100000
DTEND;TZID=Europe/Stockholm:20241020T120000
DTSTAMP:20260421T085437
CREATED:20240927T144601Z
LAST-MODIFIED:20240927T144821Z
UID:6176-1729418400-1729425600@cufarsta.nu
SUMMARY:Scoutgudstjänst med invigning
DESCRIPTION:Föräldrar\, annhöriga och vänner är ocksa varmt välkomna. \nOBS: Saming för alla scouter i kyrkan klockan 09:45. \nVarmt välkomna
URL:https://cufarsta.nu/evenemang/scoutgudstjanst-med-invigning-2/
LOCATION:Centrumkyrkan\, Farstaplan 15\, Farsta\, 123 47
END:VEVENT
BEGIN:VEVENT
DTSTART;TZID=Europe/Stockholm:20241031T180000
DTEND;TZID=Europe/Stockholm:20241031T200000
DTSTAMP:20260421T085437
CREATED:20240927T145136Z
LAST-MODIFIED:20240927T145136Z
UID:6181-1730397600-1730404800@cufarsta.nu
SUMMARY:Höstlov - inga scouter
DESCRIPTION:
URL:https://cufarsta.nu/evenemang/hostlov-inga-scouter/
END:VEVENT
END:VCALENDAR